BEGIN:VCALENDAR
VERSION:2.0
PRODID:-//Library Market//iCal Export//EN
BEGIN:VEVENT
SUMMARY:Play Nintendo Switch
UID:28904
DTSTAMP:20260421T132700Z
DTSTART:20260529T213000Z
DTEND:20260529T233000Z
LOCATION:2075 Palisades Ave, Los Osos, CA 93402, United States
ROOM: Los Osos Library Children&#039;s Area
DESCRIPTION:Master your gaming skills and make new friends with our Ninten
 do Switch! We will provide one Switch for up to 4 players at a time - feel
  free to bring your own too. Games include Mario Kart, Just Dance and Supe
 r Smash Bros.
URL:https://sanluisobispo.librarycalendar.com/event/play-nintendo-switch-2
 8904
END:VEVENT
END:VCALENDAR
