BEGIN:VCALENDAR
VERSION:2.0
PRODID:-//Library Market//iCal Export//EN
BEGIN:VEVENT
SUMMARY:Play Nintendo Switch
UID:28903
DTSTAMP:20260421T165900Z
DTSTART:20260527T220000Z
DTEND:20260528T000000Z
LOCATION:625 Harbor St, Morro Bay, CA 93442, United States
ROOM: Morro Bay Library Program Room
DESCRIPTION:Master your gaming skills and make new friends with our Ninten
 do Switch! We will provide one Switch for up to 4 players at a time - feel
  free to bring your own too. Games include Mario Kart, Super Smash Bros, a
 nd Just Dance.
URL:https://sanluisobispo.librarycalendar.com/event/play-nintendo-switch-2
 8903
END:VEVENT
END:VCALENDAR
