BEGIN:VCALENDAR
VERSION:2.0
PRODID:-//Library Market//iCal Export//EN
BEGIN:VEVENT
SUMMARY:Storytime
UID:24832
DTSTAMP:20260420T054300Z
DTSTART:20260528T173000Z
DTEND:20260528T180000Z
LOCATION:1043 Main Street, Cambria, CA 93428, United States
ROOM: Storytime
DESCRIPTION:
URL:https://sanluisobispo.librarycalendar.com/event/storytime-24832
END:VEVENT
END:VCALENDAR
